BEGIN:VCALENDAR
VERSION:2.0
PRODID:-//Illinois Progressives - ECPv6.15.20//NONSGML v1.0//EN
CALSCALE:GREGORIAN
METHOD:PUBLISH
X-WR-CALNAME:Illinois Progressives
X-ORIGINAL-URL:https://www.illinoisprogressives.org
X-WR-CALDESC:Events for Illinois Progressives
REFRESH-INTERVAL;VALUE=DURATION:PT1H
X-Robots-Tag:noindex
X-PUBLISHED-TTL:PT1H
BEGIN:VTIMEZONE
TZID:UTC
BEGIN:STANDARD
TZOFFSETFROM:+0000
TZOFFSETTO:+0000
TZNAME:UTC
DTSTART:20250101T000000
END:STANDARD
END:VTIMEZONE
BEGIN:VEVENT
DTSTART;TZID=UTC:20260317T000000
DTEND;TZID=UTC:20260317T235959
DTSTAMP:20260421T094103
CREATED:20260206T183716Z
LAST-MODIFIED:20260206T183716Z
UID:78-1773705600-1773791999@www.illinoisprogressives.org
SUMMARY:ELECTION DAY
DESCRIPTION:Vote for your favorite progressives!
URL:https://www.illinoisprogressives.org/event/election-day/
LOCATION:IL
CATEGORIES:General
END:VEVENT
END:VCALENDAR